Package: limma Version: 3.65.3 Command: rm -rf limma.buildbin-libdir && mkdir limma.buildbin-libdir && F:\biocbuild\bbs-3.22-bioc\R\bin\R.exe CMD INSTALL --build --library=limma.buildbin-libdir limma_3.65.3.tar.gz StartedAt: 2025-08-15 10:35:06 -0400 (Fri, 15 Aug 2025) EndedAt: 2025-08-15 10:36:47 -0400 (Fri, 15 Aug 2025) EllapsedTime: 101.3 seconds RetCode: 0 Status: OK PackageFile: limma_3.65.3.zip PackageFileSize: 3.02 MiB