Package: limma Version: 3.65.6 Command: /home/biocbuild/bbs-3.22-bioc/R/bin/R CMD INSTALL limma StartedAt: 2025-10-19 15:03:31 -0400 (Sun, 19 Oct 2025) EndedAt: 2025-10-19 15:03:54 -0400 (Sun, 19 Oct 2025) EllapsedTime: 22.4 seconds RetCode: 0 Status: OK