Package: limma Version: 3.65.6 Command: /home/biocbuild/bbs-3.22-bioc/R/bin/R CMD check --install=check:limma.install-out.txt --library=/home/biocbuild/bbs-3.22-bioc/R/site-library --timings limma_3.65.6.tar.gz StartedAt: 2025-10-20 01:21:11 -0400 (Mon, 20 Oct 2025) EndedAt: 2025-10-20 01:22:37 -0400 (Mon, 20 Oct 2025) EllapsedTime: 86.1 seconds RetCode: 0 Status: OK CheckDir: limma.Rcheck Warnings: 0