Package: limma Version: 3.65.6 Command: /Library/Frameworks/R.framework/Resources/bin/R CMD INSTALL limma StartedAt: 2025-10-19 15:06:12 -0400 (Sun, 19 Oct 2025) EndedAt: 2025-10-19 15:06:59 -0400 (Sun, 19 Oct 2025) EllapsedTime: 46.8 seconds RetCode: 0 Status: OK