Package: limma Version: 3.65.6 Command: /Library/Frameworks/R.framework/Resources/bin/R CMD check --install=check:limma.install-out.txt --library=/Library/Frameworks/R.framework/Resources/library --no-vignettes --timings limma_3.65.6.tar.gz StartedAt: 2025-10-19 23:24:27 -0400 (Sun, 19 Oct 2025) EndedAt: 2025-10-19 23:26:25 -0400 (Sun, 19 Oct 2025) EllapsedTime: 117.9 seconds RetCode: 0 Status: OK CheckDir: limma.Rcheck Warnings: 0