Package: limma Version: 3.65.6 Command: /Library/Frameworks/R.framework/Resources/bin/R CMD build --keep-empty-dirs --no-resave-data limma StartedAt: 2025-10-19 17:50:05 -0400 (Sun, 19 Oct 2025) EndedAt: 2025-10-19 17:50:51 -0400 (Sun, 19 Oct 2025) EllapsedTime: 46.2 seconds RetCode: 0 Status: OK PackageFile: limma_3.65.6.tar.gz PackageFileSize: 2.717 MiB