Package: limma Version: 3.65.6 Command: rm -rf limma.buildbin-libdir && mkdir limma.buildbin-libdir && /Users/biocbuild/BBS/utils/build-universal.sh limma_3.65.6.tar.gz /Library/Frameworks/R.framework/Resources/bin/R limma.buildbin-libdir StartedAt: 2025-10-20 03:16:11 -0400 (Mon, 20 Oct 2025) EndedAt: 2025-10-20 03:16:41 -0400 (Mon, 20 Oct 2025) EllapsedTime: 30.0 seconds RetCode: 0 Status: OK PackageFile: limma_3.65.6.tgz PackageFileSize: 3.014 MiB