Package: limma Version: 3.65.6 Command: /Library/Frameworks/R.framework/Resources/bin/R CMD build --keep-empty-dirs --no-resave-data limma StartedAt: 2025-10-19 16:48:55 -0400 (Sun, 19 Oct 2025) EndedAt: 2025-10-19 16:49:08 -0400 (Sun, 19 Oct 2025) EllapsedTime: 12.1 seconds RetCode: 0 Status: OK PackageFile: limma_3.65.6.tar.gz PackageFileSize: 2.718 MiB