Package: limma Version: 3.65.6 Command: rm -rf limma.buildbin-libdir && mkdir limma.buildbin-libdir && /Users/biocbuild/BBS/utils/build-universal.sh limma_3.65.6.tar.gz /Library/Frameworks/R.framework/Resources/bin/R limma.buildbin-libdir StartedAt: 2025-10-19 23:04:26 -0400 (Sun, 19 Oct 2025) EndedAt: 2025-10-19 23:04:33 -0400 (Sun, 19 Oct 2025) EllapsedTime: 7.2 seconds RetCode: 0 Status: OK PackageFile: limma_3.65.6.tgz PackageFileSize: 3.021 MiB