Package: limma Version: 3.65.6 Maintainer: Gordon Smyth MaintainerEmail: smyth at wehi.edu.au git_url: https://git.bioconductor.org/packages/limma git_branch: devel git_last_commit: f2592e4 git_last_commit_date: 2025-10-17 21:32:11 -0400 (Fri, 17 Oct 2025)