Package: lfa Version: 2.9.0 Command: /Library/Frameworks/R.framework/Resources/bin/R CMD build --keep-empty-dirs --no-resave-data lfa StartedAt: 2025-10-20 16:49:14 -0400 (Mon, 20 Oct 2025) EndedAt: 2025-10-20 16:49:20 -0400 (Mon, 20 Oct 2025) EllapsedTime: 6.1 seconds RetCode: 0 Status: OK PackageFile: lfa_2.9.0.tar.gz PackageFileSize: 341.1 KiB