Package: lfa Version: 2.9.0 Command: rm -rf lfa.buildbin-libdir && mkdir lfa.buildbin-libdir && /Users/biocbuild/BBS/utils/build-universal.sh lfa_2.9.0.tar.gz /Library/Frameworks/R.framework/Resources/bin/R lfa.buildbin-libdir StartedAt: 2025-10-20 23:05:15 -0400 (Mon, 20 Oct 2025) EndedAt: 2025-10-20 23:05:18 -0400 (Mon, 20 Oct 2025) EllapsedTime: 3.1 seconds RetCode: 0 Status: OK PackageFile: lfa_2.9.0.tgz PackageFileSize: 517.1 KiB