Package: levi Version: 1.27.0 Command: /Library/Frameworks/R.framework/Resources/bin/R CMD INSTALL levi StartedAt: 2025-09-30 15:06:17 -0400 (Tue, 30 Sep 2025) EndedAt: 2025-09-30 15:06:23 -0400 (Tue, 30 Sep 2025) EllapsedTime: 6.4 seconds RetCode: 0 Status: OK