Package: levi Version: 1.27.0 Command: /Library/Frameworks/R.framework/Resources/bin/R CMD check --install=check:levi.install-out.txt --library=/Library/Frameworks/R.framework/Resources/library --no-vignettes --timings levi_1.27.0.tar.gz StartedAt: 2025-09-30 20:09:35 -0400 (Tue, 30 Sep 2025) EndedAt: 2025-09-30 20:10:13 -0400 (Tue, 30 Sep 2025) EllapsedTime: 38.5 seconds RetCode: 0 Status: WARNINGS CheckDir: levi.Rcheck Warnings: 1