Package: les Version: 1.60.0 Command: /home/biocbuild/bbs-3.22-bioc/R/bin/R CMD INSTALL les StartedAt: 2025-11-17 16:48:16 -0500 (Mon, 17 Nov 2025) EndedAt: 2025-11-17 16:48:19 -0500 (Mon, 17 Nov 2025) EllapsedTime: 3.1 seconds RetCode: 0 Status: OK