Package: les Version: 1.60.0 Maintainer: Julian Gehring MaintainerEmail: jg-bioc at gmx.com git_url: https://git.bioconductor.org/packages/les git_branch: RELEASE_3_22 git_last_commit: b8e7a70 git_last_commit_date: 2025-10-29 10:05:41 -0500 (Wed, 29 Oct 2025)