Package: lemur Version: 1.8.0 Command: /home/biocbuild/R/R/bin/R CMD INSTALL lemur StartedAt: 2025-11-20 22:15:29 -0000 (Thu, 20 Nov 2025) EndedAt: 2025-11-20 22:16:26 -0000 (Thu, 20 Nov 2025) EllapsedTime: 56.9 seconds RetCode: 0 Status: OK