Package: lemur Version: 1.8.0 Command: /home/biocbuild/R/R/bin/R CMD check --install=check:lemur.install-out.txt --library=/home/biocbuild/R/R/site-library --no-vignettes --timings lemur_1.8.0.tar.gz StartedAt: 2025-11-21 12:15:26 -0000 (Fri, 21 Nov 2025) EndedAt: 2025-11-21 12:21:07 -0000 (Fri, 21 Nov 2025) EllapsedTime: 340.4 seconds RetCode: 0 Status: WARNINGS CheckDir: lemur.Rcheck Warnings: 1