Package: lemur Version: 1.8.0 Command: /home/biocbuild/R/R/bin/R CMD build --keep-empty-dirs --no-resave-data lemur StartedAt: 2025-11-21 03:29:08 -0000 (Fri, 21 Nov 2025) EndedAt: 2025-11-21 03:31:21 -0000 (Fri, 21 Nov 2025) EllapsedTime: 133.1 seconds RetCode: 0 Status: OK PackageFile: lemur_1.8.0.tar.gz PackageFileSize: 2.422 MiB