Package: lemur Version: 1.7.0 Command: rm -rf lemur.buildbin-libdir && mkdir lemur.buildbin-libdir && F:\biocbuild\bbs-3.22-bioc\R\bin\R.exe CMD INSTALL --build --library=lemur.buildbin-libdir lemur_1.7.0.tar.gz StartedAt: 2025-08-15 10:34:43 -0400 (Fri, 15 Aug 2025) EndedAt: 2025-08-15 10:36:00 -0400 (Fri, 15 Aug 2025) EllapsedTime: 77.3 seconds RetCode: 0 Status: OK PackageFile: lemur_1.7.0.zip PackageFileSize: 3.971 MiB