Package: lemur Version: 1.7.1 Command: /Library/Frameworks/R.framework/Resources/bin/R CMD INSTALL lemur StartedAt: 2025-10-16 16:01:31 -0400 (Thu, 16 Oct 2025) EndedAt: 2025-10-16 16:02:22 -0400 (Thu, 16 Oct 2025) EllapsedTime: 50.2 seconds RetCode: 0 Status: OK