Package: lemur Version: 1.7.1 Command: /Library/Frameworks/R.framework/Resources/bin/R CMD build --keep-empty-dirs --no-resave-data lemur StartedAt: 2025-10-16 18:16:34 -0400 (Thu, 16 Oct 2025) EndedAt: 2025-10-16 18:18:51 -0400 (Thu, 16 Oct 2025) EllapsedTime: 136.9 seconds RetCode: 0 Status: OK PackageFile: lemur_1.7.1.tar.gz PackageFileSize: 2.613 MiB