Package: lemur Version: 1.7.1 Command: rm -rf lemur.buildbin-libdir && mkdir lemur.buildbin-libdir && /Users/biocbuild/BBS/utils/build-universal.sh lemur_1.7.1.tar.gz /Library/Frameworks/R.framework/Resources/bin/R lemur.buildbin-libdir StartedAt: 2025-10-17 03:57:20 -0400 (Fri, 17 Oct 2025) EndedAt: 2025-10-17 03:58:16 -0400 (Fri, 17 Oct 2025) EllapsedTime: 55.8 seconds RetCode: 0 Status: OK PackageFile: lemur_1.7.1.tgz PackageFileSize: 2.927 MiB