Package: lemur Version: 1.7.1 Command: /Library/Frameworks/R.framework/Resources/bin/R CMD INSTALL lemur StartedAt: 2025-10-23 15:15:52 -0400 (Thu, 23 Oct 2025) EndedAt: 2025-10-23 15:16:06 -0400 (Thu, 23 Oct 2025) EllapsedTime: 13.9 seconds RetCode: 0 Status: OK