Package: lemur Version: 1.7.1 Command: rm -rf lemur.buildbin-libdir && mkdir lemur.buildbin-libdir && /Users/biocbuild/BBS/utils/build-universal.sh lemur_1.7.1.tar.gz /Library/Frameworks/R.framework/Resources/bin/R lemur.buildbin-libdir StartedAt: 2025-10-24 23:07:45 -0400 (Fri, 24 Oct 2025) EndedAt: 2025-10-24 23:08:00 -0400 (Fri, 24 Oct 2025) EllapsedTime: 15.3 seconds RetCode: 0 Status: OK PackageFile: lemur_1.7.1.tgz PackageFileSize: 2.923 MiB