Package: lemur Version: 1.8.0 Command: /Library/Frameworks/R.framework/Resources/bin/R CMD check --install=check:lemur.install-out.txt --library=/Library/Frameworks/R.framework/Resources/library --no-vignettes --timings lemur_1.8.0.tar.gz StartedAt: 2025-11-22 09:16:38 -0500 (Sat, 22 Nov 2025) EndedAt: 2025-11-22 09:23:41 -0500 (Sat, 22 Nov 2025) EllapsedTime: 423.5 seconds RetCode: 0 Status: WARNINGS CheckDir: lemur.Rcheck Warnings: 1