Package: lefser Version: 1.19.1 Command: /home/biocbuild/R/R/bin/R CMD INSTALL lefser StartedAt: 2025-10-16 22:25:11 -0000 (Thu, 16 Oct 2025) EndedAt: 2025-10-16 22:25:47 -0000 (Thu, 16 Oct 2025) EllapsedTime: 36.3 seconds RetCode: 0 Status: OK