Package: lefser Version: 1.19.1 Command: /home/biocbuild/R/R/bin/R CMD check --install=check:lefser.install-out.txt --library=/home/biocbuild/R/R/site-library --no-vignettes --timings lefser_1.19.1.tar.gz StartedAt: 2025-10-17 10:31:21 -0000 (Fri, 17 Oct 2025) EndedAt: 2025-10-17 10:37:05 -0000 (Fri, 17 Oct 2025) EllapsedTime: 344.4 seconds RetCode: 0 Status: OK CheckDir: lefser.Rcheck Warnings: 0