Package: lefser Version: 1.19.1 Command: F:\biocbuild\bbs-3.22-bioc\R\bin\R.exe CMD check --no-multiarch --install=check:lefser.install-out.txt --library=F:\biocbuild\bbs-3.22-bioc\R\library --no-vignettes --timings lefser_1.19.1.tar.gz StartedAt: 2025-08-15 04:35:14 -0400 (Fri, 15 Aug 2025) EndedAt: 2025-08-15 04:40:28 -0400 (Fri, 15 Aug 2025) EllapsedTime: 313.6 seconds RetCode: 0 Status: OK CheckDir: lefser.Rcheck Warnings: 0