Package: lefser Version: 1.19.1 Command: rm -rf lefser.buildbin-libdir && mkdir lefser.buildbin-libdir && F:\biocbuild\bbs-3.22-bioc\R\bin\R.exe CMD INSTALL --build --library=lefser.buildbin-libdir lefser_1.19.1.tar.gz StartedAt: 2025-08-15 10:34:42 -0400 (Fri, 15 Aug 2025) EndedAt: 2025-08-15 10:35:15 -0400 (Fri, 15 Aug 2025) EllapsedTime: 33.0 seconds RetCode: 0 Status: OK PackageFile: lefser_1.19.1.zip PackageFileSize: 578.1 KiB