Package: ldblock Version: 1.40.0 Command: /home/biocbuild/R/R/bin/R CMD INSTALL ldblock StartedAt: 2025-11-17 21:20:41 -0000 (Mon, 17 Nov 2025) EndedAt: 2025-11-17 21:20:55 -0000 (Mon, 17 Nov 2025) EllapsedTime: 14.5 seconds RetCode: 0 Status: OK