Package: ldblock Version: 1.40.0 Command: /home/biocbuild/R/R/bin/R CMD check --install=check:ldblock.install-out.txt --library=/home/biocbuild/R/R/site-library --no-vignettes --timings ldblock_1.40.0.tar.gz StartedAt: 2025-11-21 12:15:06 -0000 (Fri, 21 Nov 2025) EndedAt: 2025-11-21 12:17:28 -0000 (Fri, 21 Nov 2025) EllapsedTime: 141.2 seconds RetCode: 0 Status: OK CheckDir: ldblock.Rcheck Warnings: 0