Package: ldblock Version: 1.40.0 Command: /home/biocbuild/R/R/bin/R CMD build --keep-empty-dirs --no-resave-data ldblock StartedAt: 2025-11-18 02:38:29 -0000 (Tue, 18 Nov 2025) EndedAt: 2025-11-18 02:39:32 -0000 (Tue, 18 Nov 2025) EllapsedTime: 63.0 seconds RetCode: 0 Status: OK PackageFile: ldblock_1.40.0.tar.gz PackageFileSize: 40.07 MiB