Package: ldblock Version: 1.40.0 Command: /home/biocbuild/bbs-3.22-bioc/R/bin/R CMD build --keep-empty-dirs --no-resave-data --md5 ldblock StartedAt: 2025-11-17 21:43:51 -0500 (Mon, 17 Nov 2025) EndedAt: 2025-11-17 21:44:40 -0500 (Mon, 17 Nov 2025) EllapsedTime: 49.1 seconds RetCode: 0 Status: OK PackageFile: ldblock_1.40.0.tar.gz PackageFileSize: 40.1 MiB