Package: ldblock Version: 1.40.0 Command: /Library/Frameworks/R.framework/Resources/bin/R CMD build --keep-empty-dirs --no-resave-data ldblock StartedAt: 2025-11-03 17:32:47 -0500 (Mon, 03 Nov 2025) EndedAt: 2025-11-03 17:33:46 -0500 (Mon, 03 Nov 2025) EllapsedTime: 59.1 seconds RetCode: 0 Status: OK PackageFile: ldblock_1.40.0.tar.gz PackageFileSize: 40.13 MiB