Package: ldblock Version: 1.40.0 Command: /Library/Frameworks/R.framework/Resources/bin/R CMD check --install=check:ldblock.install-out.txt --library=/Library/Frameworks/R.framework/Resources/library --no-vignettes --timings ldblock_1.40.0.tar.gz StartedAt: 2025-11-10 20:43:49 -0500 (Mon, 10 Nov 2025) EndedAt: 2025-11-10 20:44:35 -0500 (Mon, 10 Nov 2025) EllapsedTime: 45.6 seconds RetCode: 0 Status: OK CheckDir: ldblock.Rcheck Warnings: 0