Package: ldblock Version: 1.40.0 Command: /Library/Frameworks/R.framework/Resources/bin/R CMD build --keep-empty-dirs --no-resave-data ldblock StartedAt: 2025-11-10 16:50:32 -0500 (Mon, 10 Nov 2025) EndedAt: 2025-11-10 16:50:54 -0500 (Mon, 10 Nov 2025) EllapsedTime: 22.3 seconds RetCode: 0 Status: OK PackageFile: ldblock_1.40.0.tar.gz PackageFileSize: 40.13 MiB