Package: ldblock Version: 1.40.0 Maintainer: VJ Carey MaintainerEmail: stvjc at channing.harvard.edu git_url: https://git.bioconductor.org/packages/ldblock git_branch: RELEASE_3_22 git_last_commit: debfb00 git_last_commit_date: 2025-10-29 10:27:30 -0500 (Wed, 29 Oct 2025)