Package: knowYourCG Version: 1.5.2 Command: /home/biocbuild/R/R/bin/R CMD INSTALL knowYourCG StartedAt: 2025-10-16 21:40:56 -0000 (Thu, 16 Oct 2025) EndedAt: 2025-10-16 21:41:25 -0000 (Thu, 16 Oct 2025) EllapsedTime: 29.2 seconds RetCode: 0 Status: OK