Package: knowYourCG Version: 1.5.2 Command: /home/biocbuild/R/R/bin/R CMD check --install=check:knowYourCG.install-out.txt --library=/home/biocbuild/R/R/site-library --no-vignettes --timings knowYourCG_1.5.2.tar.gz StartedAt: 2025-10-17 10:30:51 -0000 (Fri, 17 Oct 2025) EndedAt: 2025-10-17 10:36:35 -0000 (Fri, 17 Oct 2025) EllapsedTime: 344.4 seconds RetCode: 0 Status: OK CheckDir: knowYourCG.Rcheck Warnings: 0