Package: knowYourCG Version: 1.5.2 Command: /home/biocbuild/R/R/bin/R CMD build --keep-empty-dirs --no-resave-data knowYourCG StartedAt: 2025-10-17 02:11:10 -0000 (Fri, 17 Oct 2025) EndedAt: 2025-10-17 02:14:26 -0000 (Fri, 17 Oct 2025) EllapsedTime: 196.1 seconds RetCode: 0 Status: OK PackageFile: knowYourCG_1.5.2.tar.gz PackageFileSize: 15.03 MiB