Package: knowYourCG Version: 1.5.2 Command: rm -rf knowYourCG.buildbin-libdir && mkdir knowYourCG.buildbin-libdir && F:\biocbuild\bbs-3.22-bioc\R\bin\R.exe CMD INSTALL --build --library=knowYourCG.buildbin-libdir knowYourCG_1.5.2.tar.gz StartedAt: 2025-08-15 10:34:17 -0400 (Fri, 15 Aug 2025) EndedAt: 2025-08-15 10:35:17 -0400 (Fri, 15 Aug 2025) EllapsedTime: 60.2 seconds RetCode: 0 Status: OK PackageFile: knowYourCG_1.5.2.zip PackageFileSize: 13.23 MiB