Package: knowYourCG Version: 1.5.2 Command: /home/biocbuild/bbs-3.22-bioc/R/bin/R CMD INSTALL knowYourCG StartedAt: 2025-10-19 15:27:53 -0400 (Sun, 19 Oct 2025) EndedAt: 2025-10-19 15:28:13 -0400 (Sun, 19 Oct 2025) EllapsedTime: 20.5 seconds RetCode: 0 Status: OK