Package: knowYourCG Version: 1.5.2 Command: /home/biocbuild/bbs-3.22-bioc/R/bin/R CMD check --install=check:knowYourCG.install-out.txt --library=/home/biocbuild/bbs-3.22-bioc/R/site-library --timings knowYourCG_1.5.2.tar.gz StartedAt: 2025-10-20 01:18:06 -0400 (Mon, 20 Oct 2025) EndedAt: 2025-10-20 01:24:30 -0400 (Mon, 20 Oct 2025) EllapsedTime: 383.4 seconds RetCode: 0 Status: WARNINGS CheckDir: knowYourCG.Rcheck Warnings: 1