Package: knowYourCG Version: 1.5.2 Command: /home/biocbuild/bbs-3.22-bioc/R/bin/R CMD build --keep-empty-dirs --no-resave-data --md5 knowYourCG StartedAt: 2025-10-19 18:20:45 -0400 (Sun, 19 Oct 2025) EndedAt: 2025-10-19 18:22:43 -0400 (Sun, 19 Oct 2025) EllapsedTime: 118.2 seconds RetCode: 0 Status: OK PackageFile: knowYourCG_1.5.2.tar.gz PackageFileSize: 14.57 MiB