Package: knowYourCG Version: 1.5.2 Command: /Library/Frameworks/R.framework/Resources/bin/R CMD INSTALL knowYourCG StartedAt: 2025-10-19 15:28:25 -0400 (Sun, 19 Oct 2025) EndedAt: 2025-10-19 15:28:56 -0400 (Sun, 19 Oct 2025) EllapsedTime: 31.3 seconds RetCode: 0 Status: OK