Package: knowYourCG Version: 1.5.2 Command: /Library/Frameworks/R.framework/Resources/bin/R CMD check --install=check:knowYourCG.install-out.txt --library=/Library/Frameworks/R.framework/Resources/library --no-vignettes --timings knowYourCG_1.5.2.tar.gz StartedAt: 2025-10-19 23:22:01 -0400 (Sun, 19 Oct 2025) EndedAt: 2025-10-19 23:27:55 -0400 (Sun, 19 Oct 2025) EllapsedTime: 354.9 seconds RetCode: 0 Status: OK CheckDir: knowYourCG.Rcheck Warnings: 0