Package: knowYourCG Version: 1.5.2 Command: /Library/Frameworks/R.framework/Resources/bin/R CMD build --keep-empty-dirs --no-resave-data knowYourCG StartedAt: 2025-10-19 17:49:12 -0400 (Sun, 19 Oct 2025) EndedAt: 2025-10-19 17:52:40 -0400 (Sun, 19 Oct 2025) EllapsedTime: 208.5 seconds RetCode: 0 Status: OK PackageFile: knowYourCG_1.5.2.tar.gz PackageFileSize: 14.58 MiB