Package: knowYourCG Version: 1.5.2 Command: rm -rf knowYourCG.buildbin-libdir && mkdir knowYourCG.buildbin-libdir && /Users/biocbuild/BBS/utils/build-universal.sh knowYourCG_1.5.2.tar.gz /Library/Frameworks/R.framework/Resources/bin/R knowYourCG.buildbin-libdir StartedAt: 2025-10-19 23:04:15 -0400 (Sun, 19 Oct 2025) EndedAt: 2025-10-19 23:04:26 -0400 (Sun, 19 Oct 2025) EllapsedTime: 11.2 seconds RetCode: 0 Status: OK PackageFile: knowYourCG_1.5.2.tgz PackageFileSize: 13.27 MiB