Package: kmcut Version: 1.3.0 Command: F:\biocbuild\bbs-3.22-bioc\R\bin\R.exe CMD check --no-multiarch --install=check:kmcut.install-out.txt --library=F:\biocbuild\bbs-3.22-bioc\R\library --no-vignettes --timings kmcut_1.3.0.tar.gz StartedAt: 2025-08-15 04:33:31 -0400 (Fri, 15 Aug 2025) EndedAt: 2025-08-15 04:36:21 -0400 (Fri, 15 Aug 2025) EllapsedTime: 170.0 seconds RetCode: 0 Status: OK CheckDir: kmcut.Rcheck Warnings: 0